BEGIN:VCALENDAR
VERSION:2.0
PRODID:-//Ziber2013/
CALSCALE:GREGORIAN
BEGIN:VEVENT
UID:260592@https://www.bettercarenetwork.nl
DTSTART:20260429T150000
DTEND:20260429T163000
SUMMARY:Webinar over gezamenlijke actie voor de ontwikkeling en bescherming van kinderen
DESCRIPTION:<p>Een samenwerkingsverband van internationale organisaties organiseert een webinar over kinderbescherming\, zorg en ontwikkeling. Tijdens dit webinar worden de gevolgen besproken van bezuinigingen op Amerikaanse buitenlandse hulp voor kwetsbare kinderen en hun gezinnen\, en hoe eerdere vooruitgang in deze sector kan worden behouden in een veranderende context.</p><p>Het webinar is gebaseerd op onderzoek naar meer dan 30 jaar Amerikaanse overheidssteun aan kinderen in kwetsbare situaties. Hierbij worden lessen en ervaringen gedeeld die in die periode zijn opgedaan. Ook worden nieuwe rapporten gepresenteerd met historische inzichten en concrete aanbevelingen voor de toekomst.</p><p>Daarnaast brengt het webinar verschillende belanghebbenden samen om te verkennen hoe lokaal leiderschap en internationale solidariteit verder kunnen worden versterkt. Het doel is om gezamenlijke actie te stimuleren om kinderen beter te ondersteunen in een uitdagend en veranderend wereldwijd systeem.</p><p>[url|https://georgetown.zoom.us/webinar/register/WN_VTlc_kT3RCSR3Gq8M8Tcpw#/registration|Hier|ext] vindt u de link naar het webinar.</p>
LOCATION:Better Care Network Netherlands\, Hooglandse Kerkgracht 17G\, 2312 HS Leiden
ATTACH;FMTTYPE=image/jpeg:/content/17382/agenda/clnt/86a7d2dc9fde43a397ecc08cdf7e7e7d.jpg?width=1600&height=1200
SEQUENCE:0
DTSTAMP:20260423T162725
END:VEVENT
END:VCALENDAR
